BEGIN:VCALENDAR
VERSION:2.0
PRODID:-//Center of Excellence for Clean Energy - ECPv6.15.20//NONSGML v1.0//EN
CALSCALE:GREGORIAN
METHOD:PUBLISH
X-WR-CALNAME:Center of Excellence for Clean Energy
X-ORIGINAL-URL:https://www.cleanenergyexcellence.org
X-WR-CALDESC:Events for Center of Excellence for Clean Energy
REFRESH-INTERVAL;VALUE=DURATION:PT1H
X-Robots-Tag:noindex
X-PUBLISHED-TTL:PT1H
BEGIN:VTIMEZONE
TZID:America/Los_Angeles
BEGIN:DAYLIGHT
TZOFFSETFROM:-0800
TZOFFSETTO:-0700
TZNAME:PDT
DTSTART:20250309T100000
END:DAYLIGHT
BEGIN:STANDARD
TZOFFSETFROM:-0700
TZOFFSETTO:-0800
TZNAME:PST
DTSTART:20251102T090000
END:STANDARD
BEGIN:DAYLIGHT
TZOFFSETFROM:-0800
TZOFFSETTO:-0700
TZNAME:PDT
DTSTART:20260308T100000
END:DAYLIGHT
BEGIN:STANDARD
TZOFFSETFROM:-0700
TZOFFSETTO:-0800
TZNAME:PST
DTSTART:20261101T090000
END:STANDARD
BEGIN:DAYLIGHT
TZOFFSETFROM:-0800
TZOFFSETTO:-0700
TZNAME:PDT
DTSTART:20270314T100000
END:DAYLIGHT
BEGIN:STANDARD
TZOFFSETFROM:-0700
TZOFFSETTO:-0800
TZNAME:PST
DTSTART:20271107T090000
END:STANDARD
END:VTIMEZONE
BEGIN:VEVENT
DTSTART;TZID=America/Los_Angeles:20260224T080000
DTEND;TZID=America/Los_Angeles:20260226T160000
DTSTAMP:20260421T205939
CREATED:20251231T165253Z
LAST-MODIFIED:20251231T165255Z
UID:23596-1771920000-1772121600@www.cleanenergyexcellence.org
SUMMARY:2026 NWHA Annual Conference
DESCRIPTION:Join NWHA for the 45th Annual NWHA Conference\, the premier gathering for hydropower professionals across the Northwest and beyond. This year’s conference brings together utilities\, regulators\, consultants\, technology providers\, project developers\, and nonprofit and agency partners for three days of cutting‑edge technical content\, policy discussion\, peer exchange\, and networking that shapes the future of clean energy. \n			\n			\n				\n				\n				\n				\n			\n				\n				\n				\n				\n				\n				\n				\n				\n				\n				\n				Experience networking opportunities\, workshops\, panels\, deep dives\, and case studies. Key themes include: \n\nRegulatory & policy outlooks (federal\, state\, and regional scale)\nEnvironmental compliance & mitigation strategies\nDam safety\, asset management\, and reliability\nEmerging topics (e.g.\, energy storage integration\, climate resilience\, grid dynamics)\n\n\n			\n				\n				\n				\n				\n				Register before January 20\, 2026 to take advantage of early bird rates!
URL:https://www.cleanenergyexcellence.org/event/2026-nwha-annual-conference/
LOCATION:Hilton Vancouver Washington\, 301 West 6th Street\, Vancouver\, WA\, 98660\, United States
CATEGORIES:Conference/Summit
ATTACH;FMTTYPE=image/png:https://www.cleanenergyexcellence.org/wp-content/uploads/2025/12/NWHA-2026-Annual-Conference.png
END:VEVENT
BEGIN:VEVENT
DTSTART;TZID=America/Los_Angeles:20260225T080000
DTEND;TZID=America/Los_Angeles:20260225T160000
DTSTAMP:20260421T205939
CREATED:20251231T171041Z
LAST-MODIFIED:20251231T171042Z
UID:23607-1772006400-1772035200@www.cleanenergyexcellence.org
SUMMARY:waterPOWER Workforce: Connecting Students With Careers In Clean Energy
DESCRIPTION:Kickstart your future in clean energy at waterPOWER Workforce\, a one-day event designed to connect university students with the exciting world of hydropower and renewable careers. \nChoose from three ticket options: \n\nMorning Only (8:30 AM – 12:00 PM): Join engaging learning sessions led by industry experts and enjoy a networking lunch. Perfect if you want to gain insights\, build knowledge\, and connect with peers before heading out.\nAfternoon Only (12:00 PM – 3:30 PM): Enjoy lunch and explore our career fair\, where you’ll meet employers\, discover internship and job opportunities\, and make professional connections in hydropower and clean energy.\nFull Day (8:30 AM – 3:30 PM): Experience everything — learning sessions\, lunch\, and the career fair! Full-day attendees also receive exclusive eligibility for the WaterPOWER Workforce Scholarship.\n\nTo help you prepare\, we’ll also host virtual resume review workshops prior to the event. \nRegistration is free — secure your spot today! Travel Stipends are available. 
URL:https://www.cleanenergyexcellence.org/event/waterpower-workforce-connecting-students-with-careers-in-clean-energy/
LOCATION:Hilton Vancouver Washington\, 301 West 6th Street\, Vancouver\, WA\, 98660\, United States
CATEGORIES:Career Fair
ATTACH;FMTTYPE=image/png:https://www.cleanenergyexcellence.org/wp-content/uploads/2025/12/Waterpower-Workforce-NWHA.png
END:VEVENT
END:VCALENDAR