BEGIN:VCALENDAR
VERSION:2.0
PRODID:-//Center of Excellence for Clean Energy - ECPv6.15.20//NONSGML v1.0//EN
CALSCALE:GREGORIAN
METHOD:PUBLISH
X-WR-CALNAME:Center of Excellence for Clean Energy
X-ORIGINAL-URL:https://www.cleanenergyexcellence.org
X-WR-CALDESC:Events for Center of Excellence for Clean Energy
REFRESH-INTERVAL;VALUE=DURATION:PT1H
X-Robots-Tag:noindex
X-PUBLISHED-TTL:PT1H
BEGIN:VTIMEZONE
TZID:America/Los_Angeles
BEGIN:DAYLIGHT
TZOFFSETFROM:-0800
TZOFFSETTO:-0700
TZNAME:PDT
DTSTART:20240310T100000
END:DAYLIGHT
BEGIN:STANDARD
TZOFFSETFROM:-0700
TZOFFSETTO:-0800
TZNAME:PST
DTSTART:20241103T090000
END:STANDARD
BEGIN:DAYLIGHT
TZOFFSETFROM:-0800
TZOFFSETTO:-0700
TZNAME:PDT
DTSTART:20250309T100000
END:DAYLIGHT
BEGIN:STANDARD
TZOFFSETFROM:-0700
TZOFFSETTO:-0800
TZNAME:PST
DTSTART:20251102T090000
END:STANDARD
BEGIN:DAYLIGHT
TZOFFSETFROM:-0800
TZOFFSETTO:-0700
TZNAME:PDT
DTSTART:20260308T100000
END:DAYLIGHT
BEGIN:STANDARD
TZOFFSETFROM:-0700
TZOFFSETTO:-0800
TZNAME:PST
DTSTART:20261101T090000
END:STANDARD
END:VTIMEZONE
BEGIN:VEVENT
DTSTART;TZID=America/Los_Angeles:20250716T080000
DTEND;TZID=America/Los_Angeles:20250725T170000
DTSTAMP:20260421T100622
CREATED:20250610T173642Z
LAST-MODIFIED:20250610T173643Z
UID:23063-1752652800-1753462800@www.cleanenergyexcellence.org
SUMMARY:PNW Climate Week
DESCRIPTION:Join PNW Climate Week for a week+ of community-powered events that showcase the region as a hub for climate action\, leadership\, and innovation; sparking new ideas\, forging lasting partnerships\, and empowering people to take action. \n			\n				\n				\n				\n				\n				Bringing together innovators\, advocates\, and climate-curious citizens in over 10 cities – including Seattle\, Vancouver\, Portland\, Bellevue\, Bellingham\, Tacoma\, and more – there is something for everyone. \n			\n			\n				\n				\n				\n				\n			\n				\n				\n				\n				\n				\n				\n				\n				\n				\n				\n				Events of the week include tours\, expert panels\, workshops\, happy hours\, volunteer opportunities\, sites visits\, and more! Check out the events page to learn about all the amazing things happening\, including: \n			\n				\n				\n				\n				\n				\nTour of Smith Tower LEED retrofit followed by panel of experts\, both commercial and residential\nConducting Your First Life-Cycle Assessment: A Hands-On Workshop\nCleanTech Alliance Summer Block Party\nTour the UW Power Plant\nNextGen Geothermal in the PNW\nCascadia College & UW Bothell Campus Sustainability Tour\nAI: Hope\, Hype\, and Harm – The Missing Variable
URL:https://www.cleanenergyexcellence.org/event/pnw-climate-week/
LOCATION:WA
CATEGORIES:Other
ATTACH;FMTTYPE=image/png:https://www.cleanenergyexcellence.org/wp-content/uploads/2025/06/PNW-Climate-Week_2025.png
END:VEVENT
END:VCALENDAR