BEGIN:VCALENDAR
VERSION:2.0
PRODID:-//Center of Excellence for Clean Energy - ECPv6.15.20//NONSGML v1.0//EN
CALSCALE:GREGORIAN
METHOD:PUBLISH
X-ORIGINAL-URL:https://www.cleanenergyexcellence.org
X-WR-CALDESC:Events for Center of Excellence for Clean Energy
REFRESH-INTERVAL;VALUE=DURATION:PT1H
X-Robots-Tag:noindex
X-PUBLISHED-TTL:PT1H
BEGIN:VTIMEZONE
TZID:America/Los_Angeles
BEGIN:DAYLIGHT
TZOFFSETFROM:-0800
TZOFFSETTO:-0700
TZNAME:PDT
DTSTART:20230312T100000
END:DAYLIGHT
BEGIN:STANDARD
TZOFFSETFROM:-0700
TZOFFSETTO:-0800
TZNAME:PST
DTSTART:20231105T090000
END:STANDARD
BEGIN:DAYLIGHT
TZOFFSETFROM:-0800
TZOFFSETTO:-0700
TZNAME:PDT
DTSTART:20240310T100000
END:DAYLIGHT
BEGIN:STANDARD
TZOFFSETFROM:-0700
TZOFFSETTO:-0800
TZNAME:PST
DTSTART:20241103T090000
END:STANDARD
BEGIN:DAYLIGHT
TZOFFSETFROM:-0800
TZOFFSETTO:-0700
TZNAME:PDT
DTSTART:20250309T100000
END:DAYLIGHT
BEGIN:STANDARD
TZOFFSETFROM:-0700
TZOFFSETTO:-0800
TZNAME:PST
DTSTART:20251102T090000
END:STANDARD
END:VTIMEZONE
BEGIN:VEVENT
DTSTART;TZID=America/Los_Angeles:20241021T080000
DTEND;TZID=America/Los_Angeles:20241023T170000
DTSTAMP:20260420T031505
CREATED:20240809T153832Z
LAST-MODIFIED:20240827T181613Z
UID:20957-1729497600-1729702800@www.cleanenergyexcellence.org
SUMMARY:Seattle Fusion Week 2024
DESCRIPTION:Join fusion energy companies\, elected officials\, research institutions\, NGOs and more for educational presentations and a networking reception. 2024 Seattle Fusion Week will take place in-person in Seattle and Everett from October 21-23. \nThe first day starts with a networking lunch at the Perkins Coie Seattle Offices and a chance to learn about the state of fusion energy. Day two starts the morning at WSU Everett\, with the afternoon at Everett Community College. Day three also takes place at WSU Everett with two specialized tracks for students/educators/curriculum deciders and policymakers/employers. \n			\n			\n				\n				\n				\n				\n				\n				\n				\n				\n				\n				\n			\n			\n				\n				\n				\n				\n			\n				\n				\n				\n				\n				\n				\n				\n				\n				\n				\n				Ticket Prices\, Members: \n\nDay 1 $35\nDay 2 $125\nDay 3 $40\n\n			\n			\n				\n				\n				\n				\n				\n				\n				\n				\n				\n				Ticket Prices\, Non-Members: \n\nDay 1 $50\nDay 2 $175\nDay 3 80\n\n			\n			\n				\n				\n				\n				\n			\n				\n				\n				\n				\n				\n				\n				\n				\n				\n				\n				Register now for early bird prices!
URL:https://www.cleanenergyexcellence.org/event/seattle-fusion-week-2024/
LOCATION:WA
CATEGORIES:Professional Development
ATTACH;FMTTYPE=image/png:https://www.cleanenergyexcellence.org/wp-content/uploads/2024/08/Seattle-Fusion-week-2024.png
END:VEVENT
END:VCALENDAR